BEGIN:VCALENDAR
VERSION:2.0
PRODID:-//St Michael&#039;s School Walsh - Norfolk - ECPv6.15.7//NONSGML v1.0//EN
CALSCALE:GREGORIAN
METHOD:PUBLISH
X-ORIGINAL-URL:https://nmic1.bhncdsb.ca
X-WR-CALDESC:Events for St Michael&#039;s School Walsh - Norfolk
REFRESH-INTERVAL;VALUE=DURATION:PT1H
X-Robots-Tag:noindex
X-PUBLISHED-TTL:PT1H
BEGIN:VTIMEZONE
TZID:America/Toronto
BEGIN:DAYLIGHT
TZOFFSETFROM:-0500
TZOFFSETTO:-0400
TZNAME:EDT
DTSTART:20250309T070000
END:DAYLIGHT
BEGIN:STANDARD
TZOFFSETFROM:-0400
TZOFFSETTO:-0500
TZNAME:EST
DTSTART:20251102T060000
END:STANDARD
BEGIN:DAYLIGHT
TZOFFSETFROM:-0500
TZOFFSETTO:-0400
TZNAME:EDT
DTSTART:20260308T070000
END:DAYLIGHT
BEGIN:STANDARD
TZOFFSETFROM:-0400
TZOFFSETTO:-0500
TZNAME:EST
DTSTART:20261101T060000
END:STANDARD
BEGIN:DAYLIGHT
TZOFFSETFROM:-0500
TZOFFSETTO:-0400
TZNAME:EDT
DTSTART:20270314T070000
END:DAYLIGHT
BEGIN:STANDARD
TZOFFSETFROM:-0400
TZOFFSETTO:-0500
TZNAME:EST
DTSTART:20271107T060000
END:STANDARD
END:VTIMEZONE
BEGIN:VEVENT
DTSTART;VALUE=DATE:20260520
DTEND;VALUE=DATE:20260521
DTSTAMP:20260420T044515
CREATED:20260310T165543Z
LAST-MODIFIED:20260310T165543Z
UID:1924-1779235200-1779321599@nmic1.bhncdsb.ca
SUMMARY:Panzerotti
DESCRIPTION:
URL:https://nmic1.bhncdsb.ca/event/panzerotti-26/
END:VEVENT
BEGIN:VEVENT
DTSTART;VALUE=DATE:20260520
DTEND;VALUE=DATE:20260521
DTSTAMP:20260420T044515
CREATED:20260310T165613Z
LAST-MODIFIED:20260310T165613Z
UID:1926-1779235200-1779321599@nmic1.bhncdsb.ca
SUMMARY:Grade 1 and 2 trip to Norfolk General Hospital
DESCRIPTION:
URL:https://nmic1.bhncdsb.ca/event/grade-1-and-2-trip-to-norfolk-general-hospital/
END:VEVENT
BEGIN:VEVENT
DTSTART;VALUE=DATE:20260521
DTEND;VALUE=DATE:20260522
DTSTAMP:20260420T044515
CREATED:20260310T165653Z
LAST-MODIFIED:20260310T165653Z
UID:1928-1779321600-1779407999@nmic1.bhncdsb.ca
SUMMARY:Popcorn Day
DESCRIPTION:
URL:https://nmic1.bhncdsb.ca/event/popcorn-day-47/
END:VEVENT
BEGIN:VEVENT
DTSTART;VALUE=DATE:20260521
DTEND;VALUE=DATE:20260522
DTSTAMP:20260420T044515
CREATED:20260310T165717Z
LAST-MODIFIED:20260310T165717Z
UID:1930-1779321600-1779407999@nmic1.bhncdsb.ca
SUMMARY:Parent Council Meeting 5:00
DESCRIPTION:
URL:https://nmic1.bhncdsb.ca/event/parent-council-meeting-500-5/
END:VEVENT
BEGIN:VEVENT
DTSTART;VALUE=DATE:20260522
DTEND;VALUE=DATE:20260523
DTSTAMP:20260420T044515
CREATED:20260310T165736Z
LAST-MODIFIED:20260310T165736Z
UID:1932-1779408000-1779494399@nmic1.bhncdsb.ca
SUMMARY:Library Day
DESCRIPTION:
URL:https://nmic1.bhncdsb.ca/event/library-day-17/
END:VEVENT
BEGIN:VEVENT
DTSTART;VALUE=DATE:20260522
DTEND;VALUE=DATE:20260523
DTSTAMP:20260420T044515
CREATED:20260310T165802Z
LAST-MODIFIED:20260310T165802Z
UID:1934-1779408000-1779494399@nmic1.bhncdsb.ca
SUMMARY:Pizza Day
DESCRIPTION:
URL:https://nmic1.bhncdsb.ca/event/pizza-day-57/
END:VEVENT
BEGIN:VEVENT
DTSTART;VALUE=DATE:20260526
DTEND;VALUE=DATE:20260527
DTSTAMP:20260420T044515
CREATED:20260310T165938Z
LAST-MODIFIED:20260310T165938Z
UID:1938-1779753600-1779839999@nmic1.bhncdsb.ca
SUMMARY:Retrospect Popcorn Orders Due
DESCRIPTION:
URL:https://nmic1.bhncdsb.ca/event/retrospect-popcorn-orders-due/
END:VEVENT
BEGIN:VEVENT
DTSTART;VALUE=DATE:20260526
DTEND;VALUE=DATE:20260527
DTSTAMP:20260420T044515
CREATED:20260310T165959Z
LAST-MODIFIED:20260310T165959Z
UID:1940-1779753600-1779839999@nmic1.bhncdsb.ca
SUMMARY:Macaroni & Cheese
DESCRIPTION:
URL:https://nmic1.bhncdsb.ca/event/macaroni-cheese-2/
END:VEVENT
BEGIN:VEVENT
DTSTART;VALUE=DATE:20260528
DTEND;VALUE=DATE:20260529
DTSTAMP:20260420T044515
CREATED:20260310T170023Z
LAST-MODIFIED:20260310T170023Z
UID:1942-1779926400-1780012799@nmic1.bhncdsb.ca
SUMMARY:Popcorn Day
DESCRIPTION:
URL:https://nmic1.bhncdsb.ca/event/popcorn-day-48/
END:VEVENT
BEGIN:VEVENT
DTSTART;VALUE=DATE:20260529
DTEND;VALUE=DATE:20260530
DTSTAMP:20260420T044515
CREATED:20260310T170040Z
LAST-MODIFIED:20260310T170040Z
UID:1944-1780012800-1780099199@nmic1.bhncdsb.ca
SUMMARY:Pizza Day
DESCRIPTION:
URL:https://nmic1.bhncdsb.ca/event/pizza-day-58/
END:VEVENT
BEGIN:VEVENT
DTSTART;VALUE=DATE:20260601
DTEND;VALUE=DATE:20260602
DTSTAMP:20260420T044515
CREATED:20260310T170114Z
LAST-MODIFIED:20260310T170114Z
UID:1946-1780272000-1780358399@nmic1.bhncdsb.ca
SUMMARY:STEM
DESCRIPTION:
URL:https://nmic1.bhncdsb.ca/event/stem-41/
END:VEVENT
BEGIN:VEVENT
DTSTART;VALUE=DATE:20260602
DTEND;VALUE=DATE:20260603
DTSTAMP:20260420T044515
CREATED:20260310T170159Z
LAST-MODIFIED:20260310T170159Z
UID:1950-1780358400-1780444799@nmic1.bhncdsb.ca
SUMMARY:STEM
DESCRIPTION:
URL:https://nmic1.bhncdsb.ca/event/stem-42/
END:VEVENT
BEGIN:VEVENT
DTSTART;VALUE=DATE:20260602
DTEND;VALUE=DATE:20260603
DTSTAMP:20260420T044515
CREATED:20260310T170222Z
LAST-MODIFIED:20260310T170222Z
UID:1952-1780358400-1780444799@nmic1.bhncdsb.ca
SUMMARY:Pancakes
DESCRIPTION:
URL:https://nmic1.bhncdsb.ca/event/pancakes/
END:VEVENT
BEGIN:VEVENT
DTSTART;VALUE=DATE:20260602
DTEND;VALUE=DATE:20260603
DTSTAMP:20260420T044515
CREATED:20260416T180118Z
LAST-MODIFIED:20260416T180118Z
UID:2034-1780358400-1780444799@nmic1.bhncdsb.ca
SUMMARY:Grade 4 to 8 School Track Meet at Holy Trinity
DESCRIPTION:
URL:https://nmic1.bhncdsb.ca/event/grade-4-to-8-school-track-meet-at-holy-trinity/
END:VEVENT
BEGIN:VEVENT
DTSTART;VALUE=DATE:20260602
DTEND;VALUE=DATE:20260603
DTSTAMP:20260420T044515
CREATED:20260416T180137Z
LAST-MODIFIED:20260416T180137Z
UID:2036-1780358400-1780444799@nmic1.bhncdsb.ca
SUMMARY:Have A Go Meet
DESCRIPTION:
URL:https://nmic1.bhncdsb.ca/event/have-a-go-meet/
END:VEVENT
BEGIN:VEVENT
DTSTART;VALUE=DATE:20260603
DTEND;VALUE=DATE:20260604
DTSTAMP:20260420T044515
CREATED:20260310T170246Z
LAST-MODIFIED:20260310T170246Z
UID:1954-1780444800-1780531199@nmic1.bhncdsb.ca
SUMMARY:STEM
DESCRIPTION:
URL:https://nmic1.bhncdsb.ca/event/stem-43/
END:VEVENT
BEGIN:VEVENT
DTSTART;VALUE=DATE:20260603
DTEND;VALUE=DATE:20260604
DTSTAMP:20260420T044515
CREATED:20260310T170311Z
LAST-MODIFIED:20260310T170311Z
UID:1956-1780444800-1780531199@nmic1.bhncdsb.ca
SUMMARY:Panzerotti
DESCRIPTION:
URL:https://nmic1.bhncdsb.ca/event/panzerotti-27/
END:VEVENT
BEGIN:VEVENT
DTSTART;VALUE=DATE:20260604
DTEND;VALUE=DATE:20260605
DTSTAMP:20260420T044515
CREATED:20260310T173618Z
LAST-MODIFIED:20260310T173618Z
UID:1958-1780531200-1780617599@nmic1.bhncdsb.ca
SUMMARY:Popcorn Day
DESCRIPTION:
URL:https://nmic1.bhncdsb.ca/event/popcorn-day-49/
END:VEVENT
BEGIN:VEVENT
DTSTART;VALUE=DATE:20260604
DTEND;VALUE=DATE:20260605
DTSTAMP:20260420T044515
CREATED:20260310T173640Z
LAST-MODIFIED:20260310T173640Z
UID:1960-1780531200-1780617599@nmic1.bhncdsb.ca
SUMMARY:Pizza Day
DESCRIPTION:
URL:https://nmic1.bhncdsb.ca/event/pizza-day-59/
END:VEVENT
BEGIN:VEVENT
DTSTART;VALUE=DATE:20260604
DTEND;VALUE=DATE:20260605
DTSTAMP:20260420T044515
CREATED:20260310T173715Z
LAST-MODIFIED:20260310T173715Z
UID:1964-1780531200-1780617599@nmic1.bhncdsb.ca
SUMMARY:STEM
DESCRIPTION:
URL:https://nmic1.bhncdsb.ca/event/stem-44/
END:VEVENT
BEGIN:VEVENT
DTSTART;VALUE=DATE:20260605
DTEND;VALUE=DATE:20260606
DTSTAMP:20260420T044515
CREATED:20260310T173657Z
LAST-MODIFIED:20260310T173657Z
UID:1962-1780617600-1780703999@nmic1.bhncdsb.ca
SUMMARY:PA Day
DESCRIPTION:
URL:https://nmic1.bhncdsb.ca/event/pa-day-8/
END:VEVENT
BEGIN:VEVENT
DTSTART;VALUE=DATE:20260608
DTEND;VALUE=DATE:20260609
DTSTAMP:20260420T044515
CREATED:20260310T173736Z
LAST-MODIFIED:20260310T173736Z
UID:1966-1780876800-1780963199@nmic1.bhncdsb.ca
SUMMARY:Library
DESCRIPTION:
URL:https://nmic1.bhncdsb.ca/event/library-15/
END:VEVENT
BEGIN:VEVENT
DTSTART;VALUE=DATE:20260609
DTEND;VALUE=DATE:20260610
DTSTAMP:20260420T044515
CREATED:20260310T173805Z
LAST-MODIFIED:20260310T173805Z
UID:1968-1780963200-1781049599@nmic1.bhncdsb.ca
SUMMARY:Retrospect Popcorn Pick Up Day
DESCRIPTION:
URL:https://nmic1.bhncdsb.ca/event/retrospect-popcorn-pick-up-day/
END:VEVENT
BEGIN:VEVENT
DTSTART;VALUE=DATE:20260609
DTEND;VALUE=DATE:20260610
DTSTAMP:20260420T044515
CREATED:20260310T173825Z
LAST-MODIFIED:20260310T173825Z
UID:1970-1780963200-1781049599@nmic1.bhncdsb.ca
SUMMARY:Chicken Nuggets
DESCRIPTION:
URL:https://nmic1.bhncdsb.ca/event/chicken-nuggets-2/
END:VEVENT
BEGIN:VEVENT
DTSTART;VALUE=DATE:20260609
DTEND;VALUE=DATE:20260610
DTSTAMP:20260420T044515
CREATED:20260310T173851Z
LAST-MODIFIED:20260310T173851Z
UID:1972-1780963200-1781049599@nmic1.bhncdsb.ca
SUMMARY:Grade 3 to 6 Trip to Delhi Tobacco Museum
DESCRIPTION:
URL:https://nmic1.bhncdsb.ca/event/grade-3-to-6-trip-to-delhi-tobacco-museum/
END:VEVENT
BEGIN:VEVENT
DTSTART;VALUE=DATE:20260609
DTEND;VALUE=DATE:20260610
DTSTAMP:20260420T044515
CREATED:20260416T180205Z
LAST-MODIFIED:20260416T180205Z
UID:2038-1780963200-1781049599@nmic1.bhncdsb.ca
SUMMARY:Grade 7 / 8 Trip the Factory in London 8-4
DESCRIPTION:
URL:https://nmic1.bhncdsb.ca/event/grade-7-8-trip-the-factory-in-london-8-4/
END:VEVENT
BEGIN:VEVENT
DTSTART;VALUE=DATE:20260610
DTEND;VALUE=DATE:20260611
DTSTAMP:20260420T044515
CREATED:20260310T173918Z
LAST-MODIFIED:20260310T173918Z
UID:1974-1781049600-1781135999@nmic1.bhncdsb.ca
SUMMARY:Board Track and Field Meet
DESCRIPTION:
URL:https://nmic1.bhncdsb.ca/event/board-track-and-field-meet/
END:VEVENT
BEGIN:VEVENT
DTSTART;VALUE=DATE:20260611
DTEND;VALUE=DATE:20260612
DTSTAMP:20260420T044515
CREATED:20260310T173944Z
LAST-MODIFIED:20260310T173944Z
UID:1976-1781136000-1781222399@nmic1.bhncdsb.ca
SUMMARY:Board Track and Field Meet Cancellation Date
DESCRIPTION:
URL:https://nmic1.bhncdsb.ca/event/board-track-and-field-meet-cancellation-date/
END:VEVENT
BEGIN:VEVENT
DTSTART;VALUE=DATE:20260611
DTEND;VALUE=DATE:20260612
DTSTAMP:20260420T044515
CREATED:20260310T174009Z
LAST-MODIFIED:20260310T174009Z
UID:1978-1781136000-1781222399@nmic1.bhncdsb.ca
SUMMARY:Popcorn Day
DESCRIPTION:
URL:https://nmic1.bhncdsb.ca/event/popcorn-day-50/
END:VEVENT
BEGIN:VEVENT
DTSTART;VALUE=DATE:20260612
DTEND;VALUE=DATE:20260613
DTSTAMP:20260420T044515
CREATED:20260310T174028Z
LAST-MODIFIED:20260310T174028Z
UID:1980-1781222400-1781308799@nmic1.bhncdsb.ca
SUMMARY:Pizza Day
DESCRIPTION:
URL:https://nmic1.bhncdsb.ca/event/pizza-day-60/
END:VEVENT
END:VCALENDAR