BEGIN:VCALENDAR
VERSION:2.0
PRODID:-//St Michael&#039;s School Walsh - Norfolk - ECPv6.15.7//NONSGML v1.0//EN
CALSCALE:GREGORIAN
METHOD:PUBLISH
X-ORIGINAL-URL:https://nmic1.bhncdsb.ca
X-WR-CALDESC:Events for St Michael&#039;s School Walsh - Norfolk
REFRESH-INTERVAL;VALUE=DURATION:PT1H
X-Robots-Tag:noindex
X-PUBLISHED-TTL:PT1H
BEGIN:VTIMEZONE
TZID:America/Toronto
BEGIN:DAYLIGHT
TZOFFSETFROM:-0500
TZOFFSETTO:-0400
TZNAME:EDT
DTSTART:20250309T070000
END:DAYLIGHT
BEGIN:STANDARD
TZOFFSETFROM:-0400
TZOFFSETTO:-0500
TZNAME:EST
DTSTART:20251102T060000
END:STANDARD
BEGIN:DAYLIGHT
TZOFFSETFROM:-0500
TZOFFSETTO:-0400
TZNAME:EDT
DTSTART:20260308T070000
END:DAYLIGHT
BEGIN:STANDARD
TZOFFSETFROM:-0400
TZOFFSETTO:-0500
TZNAME:EST
DTSTART:20261101T060000
END:STANDARD
BEGIN:DAYLIGHT
TZOFFSETFROM:-0500
TZOFFSETTO:-0400
TZNAME:EDT
DTSTART:20270314T070000
END:DAYLIGHT
BEGIN:STANDARD
TZOFFSETFROM:-0400
TZOFFSETTO:-0500
TZNAME:EST
DTSTART:20271107T060000
END:STANDARD
END:VTIMEZONE
BEGIN:VEVENT
DTSTART;VALUE=DATE:20260415
DTEND;VALUE=DATE:20260416
DTSTAMP:20260420T042430
CREATED:20260210T164057Z
LAST-MODIFIED:20260210T164057Z
UID:1826-1776211200-1776297599@nmic1.bhncdsb.ca
SUMMARY:Parent Council Meeting 5:00 p.m.
DESCRIPTION:
URL:https://nmic1.bhncdsb.ca/event/parent-council-meeting-500-p-m-2/
END:VEVENT
BEGIN:VEVENT
DTSTART;VALUE=DATE:20260415
DTEND;VALUE=DATE:20260416
DTSTAMP:20260420T042430
CREATED:20260310T164557Z
LAST-MODIFIED:20260310T164557Z
UID:1880-1776211200-1776297599@nmic1.bhncdsb.ca
SUMMARY:Jersey Day
DESCRIPTION:
URL:https://nmic1.bhncdsb.ca/event/jersey-day-4/
END:VEVENT
BEGIN:VEVENT
DTSTART;VALUE=DATE:20260416
DTEND;VALUE=DATE:20260417
DTSTAMP:20260420T042430
CREATED:20260210T164122Z
LAST-MODIFIED:20260210T164122Z
UID:1828-1776297600-1776383999@nmic1.bhncdsb.ca
SUMMARY:Popcorn Day
DESCRIPTION:
URL:https://nmic1.bhncdsb.ca/event/popcorn-day-42/
END:VEVENT
BEGIN:VEVENT
DTSTART;VALUE=DATE:20260416
DTEND;VALUE=DATE:20260417
DTSTAMP:20260420T042430
CREATED:20260210T164141Z
LAST-MODIFIED:20260210T164141Z
UID:1830-1776297600-1776383999@nmic1.bhncdsb.ca
SUMMARY:Pizza Day
DESCRIPTION:
URL:https://nmic1.bhncdsb.ca/event/pizza-day-52/
END:VEVENT
BEGIN:VEVENT
DTSTART;VALUE=DATE:20260416
DTEND;VALUE=DATE:20260417
DTSTAMP:20260420T042430
CREATED:20260310T164614Z
LAST-MODIFIED:20260310T164614Z
UID:1882-1776297600-1776383999@nmic1.bhncdsb.ca
SUMMARY:STEM
DESCRIPTION:
URL:https://nmic1.bhncdsb.ca/event/stem-40/
END:VEVENT
BEGIN:VEVENT
DTSTART;VALUE=DATE:20260417
DTEND;VALUE=DATE:20260418
DTSTAMP:20260420T042430
CREATED:20260210T164201Z
LAST-MODIFIED:20260210T164201Z
UID:1832-1776384000-1776470399@nmic1.bhncdsb.ca
SUMMARY:PA Day
DESCRIPTION:
URL:https://nmic1.bhncdsb.ca/event/pa-day-7/
END:VEVENT
BEGIN:VEVENT
DTSTART;VALUE=DATE:20260420
DTEND;VALUE=DATE:20260421
DTSTAMP:20260420T042430
CREATED:20260210T164228Z
LAST-MODIFIED:20260210T164228Z
UID:1834-1776643200-1776729599@nmic1.bhncdsb.ca
SUMMARY:Popcorn Orders Go Home
DESCRIPTION:
URL:https://nmic1.bhncdsb.ca/event/popcorn-orders-go-home-7/
END:VEVENT
BEGIN:VEVENT
DTSTART;TZID=America/Toronto:20260420T090000
DTEND;TZID=America/Toronto:20260424T153000
DTSTAMP:20260420T042430
CREATED:20260310T164706Z
LAST-MODIFIED:20260310T164706Z
UID:1884-1776675600-1777044600@nmic1.bhncdsb.ca
SUMMARY:Litterless Lunch Week Begins
DESCRIPTION:
URL:https://nmic1.bhncdsb.ca/event/litterless-lunch-week-begins/
END:VEVENT
BEGIN:VEVENT
DTSTART;VALUE=DATE:20260421
DTEND;VALUE=DATE:20260422
DTSTAMP:20260420T042430
CREATED:20260210T164251Z
LAST-MODIFIED:20260210T164313Z
UID:1836-1776729600-1776815999@nmic1.bhncdsb.ca
SUMMARY:Macaroni & Cheese
DESCRIPTION:
URL:https://nmic1.bhncdsb.ca/event/macaroni-cheese/
END:VEVENT
BEGIN:VEVENT
DTSTART;VALUE=DATE:20260421
DTEND;VALUE=DATE:20260422
DTSTAMP:20260420T042430
CREATED:20260416T175857Z
LAST-MODIFIED:20260416T175857Z
UID:2024-1776729600-1776815999@nmic1.bhncdsb.ca
SUMMARY:Fr. John visits classrooms 11:00
DESCRIPTION:
URL:https://nmic1.bhncdsb.ca/event/fr-john-visits-classrooms-1100/
END:VEVENT
BEGIN:VEVENT
DTSTART;VALUE=DATE:20260422
DTEND;VALUE=DATE:20260423
DTSTAMP:20260420T042430
CREATED:20260210T164421Z
LAST-MODIFIED:20260210T164421Z
UID:1838-1776816000-1776902399@nmic1.bhncdsb.ca
SUMMARY:Panzerotti
DESCRIPTION:
URL:https://nmic1.bhncdsb.ca/event/panzerotti-24/
END:VEVENT
BEGIN:VEVENT
DTSTART;VALUE=DATE:20260423
DTEND;VALUE=DATE:20260424
DTSTAMP:20260420T042430
CREATED:20260210T164441Z
LAST-MODIFIED:20260210T164441Z
UID:1840-1776902400-1776988799@nmic1.bhncdsb.ca
SUMMARY:Library
DESCRIPTION:
URL:https://nmic1.bhncdsb.ca/event/library-14/
END:VEVENT
BEGIN:VEVENT
DTSTART;VALUE=DATE:20260423
DTEND;VALUE=DATE:20260424
DTSTAMP:20260420T042430
CREATED:20260210T164503Z
LAST-MODIFIED:20260210T164503Z
UID:1842-1776902400-1776988799@nmic1.bhncdsb.ca
SUMMARY:Popcorn Day
DESCRIPTION:
URL:https://nmic1.bhncdsb.ca/event/popcorn-day-43/
END:VEVENT
BEGIN:VEVENT
DTSTART;VALUE=DATE:20260423
DTEND;VALUE=DATE:20260424
DTSTAMP:20260420T042430
CREATED:20260416T175928Z
LAST-MODIFIED:20260416T175928Z
UID:2026-1776902400-1776988799@nmic1.bhncdsb.ca
SUMMARY:Parent Council Meeting 5:00
DESCRIPTION:
URL:https://nmic1.bhncdsb.ca/event/parent-council-meeting-500-6/
END:VEVENT
BEGIN:VEVENT
DTSTART;VALUE=DATE:20260423
DTEND;VALUE=DATE:20260424
DTSTAMP:20260420T042430
CREATED:20260416T180005Z
LAST-MODIFIED:20260416T180005Z
UID:2028-1776902400-1776988799@nmic1.bhncdsb.ca
SUMMARY:Grade 7 / 8 trip to Simcoe AgSpace a.m.
DESCRIPTION:
URL:https://nmic1.bhncdsb.ca/event/grade-7-8-trip-to-simcoe-agspace-a-m/
END:VEVENT
BEGIN:VEVENT
DTSTART;VALUE=DATE:20260424
DTEND;VALUE=DATE:20260425
DTSTAMP:20260420T042430
CREATED:20260210T164534Z
LAST-MODIFIED:20260210T164534Z
UID:1844-1776988800-1777075199@nmic1.bhncdsb.ca
SUMMARY:Pizza Day
DESCRIPTION:
URL:https://nmic1.bhncdsb.ca/event/pizza-day-53/
END:VEVENT
BEGIN:VEVENT
DTSTART;VALUE=DATE:20260428
DTEND;VALUE=DATE:20260429
DTSTAMP:20260420T042430
CREATED:20260210T164555Z
LAST-MODIFIED:20260210T164555Z
UID:1846-1777334400-1777420799@nmic1.bhncdsb.ca
SUMMARY:Pancakes and Sausage
DESCRIPTION:
URL:https://nmic1.bhncdsb.ca/event/pancakes-and-sausage-3/
END:VEVENT
BEGIN:VEVENT
DTSTART;VALUE=DATE:20260428
DTEND;VALUE=DATE:20260429
DTSTAMP:20260420T042430
CREATED:20260416T180032Z
LAST-MODIFIED:20260416T180032Z
UID:2030-1777334400-1777420799@nmic1.bhncdsb.ca
SUMMARY:Grade 5 to 8 Indigenous Presentation
DESCRIPTION:
URL:https://nmic1.bhncdsb.ca/event/grade-5-to-8-indigenous-presentation/
END:VEVENT
BEGIN:VEVENT
DTSTART;VALUE=DATE:20260429
DTEND;VALUE=DATE:20260430
DTSTAMP:20260420T042430
CREATED:20260210T164614Z
LAST-MODIFIED:20260210T164614Z
UID:1848-1777420800-1777507199@nmic1.bhncdsb.ca
SUMMARY:Popcorn Orders Due
DESCRIPTION:
URL:https://nmic1.bhncdsb.ca/event/popcorn-orders-due-8/
END:VEVENT
BEGIN:VEVENT
DTSTART;VALUE=DATE:20260429
DTEND;VALUE=DATE:20260430
DTSTAMP:20260420T042430
CREATED:20260310T164832Z
LAST-MODIFIED:20260310T164832Z
UID:1886-1777420800-1777507199@nmic1.bhncdsb.ca
SUMMARY:Warrior Day
DESCRIPTION:
URL:https://nmic1.bhncdsb.ca/event/warrior-day-4/
END:VEVENT
BEGIN:VEVENT
DTSTART;VALUE=DATE:20260430
DTEND;VALUE=DATE:20260501
DTSTAMP:20260420T042430
CREATED:20260210T164636Z
LAST-MODIFIED:20260210T164636Z
UID:1850-1777507200-1777593599@nmic1.bhncdsb.ca
SUMMARY:Popcorn Day
DESCRIPTION:
URL:https://nmic1.bhncdsb.ca/event/popcorn-day-44/
END:VEVENT
BEGIN:VEVENT
DTSTART;VALUE=DATE:20260501
DTEND;VALUE=DATE:20260502
DTSTAMP:20260420T042430
CREATED:20260310T164857Z
LAST-MODIFIED:20260310T164857Z
UID:1888-1777593600-1777679999@nmic1.bhncdsb.ca
SUMMARY:Pizza Day
DESCRIPTION:
URL:https://nmic1.bhncdsb.ca/event/pizza-day-54/
END:VEVENT
BEGIN:VEVENT
DTSTART;VALUE=DATE:20260504
DTEND;VALUE=DATE:20260505
DTSTAMP:20260420T042430
CREATED:20260310T164923Z
LAST-MODIFIED:20260310T164923Z
UID:1890-1777852800-1777939199@nmic1.bhncdsb.ca
SUMMARY:Cheeseburger Day
DESCRIPTION:
URL:https://nmic1.bhncdsb.ca/event/cheeseburger-day-3/
END:VEVENT
BEGIN:VEVENT
DTSTART;VALUE=DATE:20260504
DTEND;VALUE=DATE:20260505
DTSTAMP:20260420T042430
CREATED:20260310T164947Z
LAST-MODIFIED:20260310T164947Z
UID:1892-1777852800-1777939199@nmic1.bhncdsb.ca
SUMMARY:Catholic Leadership Awards
DESCRIPTION:
URL:https://nmic1.bhncdsb.ca/event/catholic-leadership-awards/
END:VEVENT
BEGIN:VEVENT
DTSTART;TZID=America/Toronto:20260504T090000
DTEND;TZID=America/Toronto:20260508T153000
DTSTAMP:20260420T042430
CREATED:20260310T165215Z
LAST-MODIFIED:20260310T165215Z
UID:1904-1777885200-1778254200@nmic1.bhncdsb.ca
SUMMARY:Catholic Education Week
DESCRIPTION:
URL:https://nmic1.bhncdsb.ca/event/catholic-education-week-2/
END:VEVENT
BEGIN:VEVENT
DTSTART;VALUE=DATE:20260505
DTEND;VALUE=DATE:20260506
DTSTAMP:20260420T042430
CREATED:20260416T180048Z
LAST-MODIFIED:20260416T180048Z
UID:2032-1777939200-1778025599@nmic1.bhncdsb.ca
SUMMARY:Cheeseburger
DESCRIPTION:
URL:https://nmic1.bhncdsb.ca/event/cheeseburger-2/
END:VEVENT
BEGIN:VEVENT
DTSTART;VALUE=DATE:20260506
DTEND;VALUE=DATE:20260507
DTSTAMP:20260420T042430
CREATED:20260310T165016Z
LAST-MODIFIED:20260310T165016Z
UID:1894-1778025600-1778111999@nmic1.bhncdsb.ca
SUMMARY:Board Cross Country Meet in Waterford
DESCRIPTION:
URL:https://nmic1.bhncdsb.ca/event/board-cross-country-meet-in-waterford-2/
END:VEVENT
BEGIN:VEVENT
DTSTART;VALUE=DATE:20260506
DTEND;VALUE=DATE:20260507
DTSTAMP:20260420T042430
CREATED:20260310T165036Z
LAST-MODIFIED:20260310T165036Z
UID:1896-1778025600-1778111999@nmic1.bhncdsb.ca
SUMMARY:Panzerotti
DESCRIPTION:
URL:https://nmic1.bhncdsb.ca/event/panzerotti-25/
END:VEVENT
BEGIN:VEVENT
DTSTART;VALUE=DATE:20260506
DTEND;VALUE=DATE:20260507
DTSTAMP:20260420T042430
CREATED:20260310T165911Z
LAST-MODIFIED:20260310T165911Z
UID:1936-1778025600-1778111999@nmic1.bhncdsb.ca
SUMMARY:Retrospect Popcorn Orders Go Home
DESCRIPTION:
URL:https://nmic1.bhncdsb.ca/event/retrospect-popcorn-orders-go-home/
END:VEVENT
BEGIN:VEVENT
DTSTART;VALUE=DATE:20260507
DTEND;VALUE=DATE:20260508
DTSTAMP:20260420T042430
CREATED:20260310T165056Z
LAST-MODIFIED:20260310T165056Z
UID:1898-1778112000-1778198399@nmic1.bhncdsb.ca
SUMMARY:Library Day
DESCRIPTION:
URL:https://nmic1.bhncdsb.ca/event/library-day-15/
END:VEVENT
END:VCALENDAR