BEGIN:VCALENDAR
VERSION:2.0
PRODID:-//St Michael&#039;s School Walsh - Norfolk - ECPv6.15.7//NONSGML v1.0//EN
CALSCALE:GREGORIAN
METHOD:PUBLISH
X-ORIGINAL-URL:https://nmic1.bhncdsb.ca
X-WR-CALDESC:Events for St Michael&#039;s School Walsh - Norfolk
REFRESH-INTERVAL;VALUE=DURATION:PT1H
X-Robots-Tag:noindex
X-PUBLISHED-TTL:PT1H
BEGIN:VTIMEZONE
TZID:America/Toronto
BEGIN:DAYLIGHT
TZOFFSETFROM:-0500
TZOFFSETTO:-0400
TZNAME:EDT
DTSTART:20240310T070000
END:DAYLIGHT
BEGIN:STANDARD
TZOFFSETFROM:-0400
TZOFFSETTO:-0500
TZNAME:EST
DTSTART:20241103T060000
END:STANDARD
BEGIN:DAYLIGHT
TZOFFSETFROM:-0500
TZOFFSETTO:-0400
TZNAME:EDT
DTSTART:20250309T070000
END:DAYLIGHT
BEGIN:STANDARD
TZOFFSETFROM:-0400
TZOFFSETTO:-0500
TZNAME:EST
DTSTART:20251102T060000
END:STANDARD
BEGIN:DAYLIGHT
TZOFFSETFROM:-0500
TZOFFSETTO:-0400
TZNAME:EDT
DTSTART:20260308T070000
END:DAYLIGHT
BEGIN:STANDARD
TZOFFSETFROM:-0400
TZOFFSETTO:-0500
TZNAME:EST
DTSTART:20261101T060000
END:STANDARD
BEGIN:DAYLIGHT
TZOFFSETFROM:-0500
TZOFFSETTO:-0400
TZNAME:EDT
DTSTART:20270314T070000
END:DAYLIGHT
BEGIN:STANDARD
TZOFFSETFROM:-0400
TZOFFSETTO:-0500
TZNAME:EST
DTSTART:20271107T060000
END:STANDARD
END:VTIMEZONE
BEGIN:VEVENT
DTSTART;VALUE=DATE:20251219
DTEND;VALUE=DATE:20251220
DTSTAMP:20260420T212225
CREATED:20251107T172637Z
LAST-MODIFIED:20251107T172637Z
UID:1544-1766102400-1766188799@nmic1.bhncdsb.ca
SUMMARY:DARE Gr. 7 / 8
DESCRIPTION:
URL:https://nmic1.bhncdsb.ca/event/dare-gr-7-8-2/
END:VEVENT
BEGIN:VEVENT
DTSTART;VALUE=DATE:20251219
DTEND;VALUE=DATE:20251220
DTSTAMP:20260420T212225
CREATED:20251107T172704Z
LAST-MODIFIED:20251107T172704Z
UID:1546-1766102400-1766188799@nmic1.bhncdsb.ca
SUMMARY:Candy Grams Given Out
DESCRIPTION:
URL:https://nmic1.bhncdsb.ca/event/candy-grams-given-out-2/
END:VEVENT
BEGIN:VEVENT
DTSTART;VALUE=DATE:20260106
DTEND;VALUE=DATE:20260107
DTSTAMP:20260420T212225
CREATED:20251126T145852Z
LAST-MODIFIED:20251126T145852Z
UID:1564-1767657600-1767743999@nmic1.bhncdsb.ca
SUMMARY:Penne Day
DESCRIPTION:
URL:https://nmic1.bhncdsb.ca/event/penne-day-2/
END:VEVENT
BEGIN:VEVENT
DTSTART;VALUE=DATE:20260108
DTEND;VALUE=DATE:20260109
DTSTAMP:20260420T212225
CREATED:20251126T150550Z
LAST-MODIFIED:20251126T150550Z
UID:1567-1767830400-1767916799@nmic1.bhncdsb.ca
SUMMARY:Popcorn Day
DESCRIPTION:
URL:https://nmic1.bhncdsb.ca/event/popcorn-day-29/
END:VEVENT
BEGIN:VEVENT
DTSTART;VALUE=DATE:20260109
DTEND;VALUE=DATE:20260110
DTSTAMP:20260420T212225
CREATED:20251126T150913Z
LAST-MODIFIED:20251126T150913Z
UID:1570-1767916800-1768003199@nmic1.bhncdsb.ca
SUMMARY:Pizza Day
DESCRIPTION:
URL:https://nmic1.bhncdsb.ca/event/pizza-day-39/
END:VEVENT
BEGIN:VEVENT
DTSTART;VALUE=DATE:20260113
DTEND;VALUE=DATE:20260114
DTSTAMP:20260420T212225
CREATED:20251126T151603Z
LAST-MODIFIED:20251126T151603Z
UID:1573-1768262400-1768348799@nmic1.bhncdsb.ca
SUMMARY:Mac & Cheese
DESCRIPTION:
URL:https://nmic1.bhncdsb.ca/event/mac-cheese/
END:VEVENT
BEGIN:VEVENT
DTSTART;VALUE=DATE:20260114
DTEND;VALUE=DATE:20260115
DTSTAMP:20260420T212225
CREATED:20251126T152657Z
LAST-MODIFIED:20251126T152657Z
UID:1576-1768348800-1768435199@nmic1.bhncdsb.ca
SUMMARY:Panzerotti
DESCRIPTION:
URL:https://nmic1.bhncdsb.ca/event/panzerotti-19/
END:VEVENT
BEGIN:VEVENT
DTSTART;VALUE=DATE:20260115
DTEND;VALUE=DATE:20260116
DTSTAMP:20260420T212225
CREATED:20251208T163808Z
LAST-MODIFIED:20251208T163808Z
UID:1592-1768435200-1768521599@nmic1.bhncdsb.ca
SUMMARY:Popcorn Day
DESCRIPTION:
URL:https://nmic1.bhncdsb.ca/event/popcorn-day-30/
END:VEVENT
BEGIN:VEVENT
DTSTART;VALUE=DATE:20260115
DTEND;VALUE=DATE:20260116
DTSTAMP:20260420T212225
CREATED:20251208T163839Z
LAST-MODIFIED:20251208T163839Z
UID:1594-1768435200-1768521599@nmic1.bhncdsb.ca
SUMMARY:Library
DESCRIPTION:
URL:https://nmic1.bhncdsb.ca/event/library-10/
END:VEVENT
BEGIN:VEVENT
DTSTART;VALUE=DATE:20260115
DTEND;VALUE=DATE:20260116
DTSTAMP:20260420T212225
CREATED:20251208T163904Z
LAST-MODIFIED:20251208T163904Z
UID:1596-1768435200-1768521599@nmic1.bhncdsb.ca
SUMMARY:DARE Gr. 7 / 8
DESCRIPTION:
URL:https://nmic1.bhncdsb.ca/event/dare-gr-7-8-3/
END:VEVENT
BEGIN:VEVENT
DTSTART;VALUE=DATE:20260115
DTEND;VALUE=DATE:20260116
DTSTAMP:20260420T212225
CREATED:20251208T163931Z
LAST-MODIFIED:20251208T163931Z
UID:1598-1768435200-1768521599@nmic1.bhncdsb.ca
SUMMARY:Gr 9 Open House at Holy Trinity 6:30 to 8
DESCRIPTION:
URL:https://nmic1.bhncdsb.ca/event/gr-9-open-house-at-holy-trinity-630-to-8/
END:VEVENT
BEGIN:VEVENT
DTSTART;VALUE=DATE:20260116
DTEND;VALUE=DATE:20260117
DTSTAMP:20260420T212225
CREATED:20251208T163950Z
LAST-MODIFIED:20251208T163950Z
UID:1600-1768521600-1768607999@nmic1.bhncdsb.ca
SUMMARY:Pizza Day
DESCRIPTION:
URL:https://nmic1.bhncdsb.ca/event/pizza-day-40/
END:VEVENT
BEGIN:VEVENT
DTSTART;VALUE=DATE:20260119
DTEND;VALUE=DATE:20260120
DTSTAMP:20260420T212225
CREATED:20251208T164017Z
LAST-MODIFIED:20251208T164017Z
UID:1602-1768780800-1768867199@nmic1.bhncdsb.ca
SUMMARY:PA Day - Report Card Writing Day
DESCRIPTION:
URL:https://nmic1.bhncdsb.ca/event/pa-day-report-card-writing-day/
END:VEVENT
BEGIN:VEVENT
DTSTART;VALUE=DATE:20260120
DTEND;VALUE=DATE:20260121
DTSTAMP:20260420T212225
CREATED:20251208T164035Z
LAST-MODIFIED:20251208T164035Z
UID:1604-1768867200-1768953599@nmic1.bhncdsb.ca
SUMMARY:STEM
DESCRIPTION:
URL:https://nmic1.bhncdsb.ca/event/stem-31/
END:VEVENT
BEGIN:VEVENT
DTSTART;VALUE=DATE:20260120
DTEND;VALUE=DATE:20260121
DTSTAMP:20260420T212225
CREATED:20251208T164056Z
LAST-MODIFIED:20251208T164056Z
UID:1606-1768867200-1768953599@nmic1.bhncdsb.ca
SUMMARY:Pancake and Sausage Day
DESCRIPTION:
URL:https://nmic1.bhncdsb.ca/event/pancake-and-sausage-day/
END:VEVENT
BEGIN:VEVENT
DTSTART;VALUE=DATE:20260121
DTEND;VALUE=DATE:20260122
DTSTAMP:20260420T212225
CREATED:20251208T164115Z
LAST-MODIFIED:20251208T164115Z
UID:1608-1768953600-1769039999@nmic1.bhncdsb.ca
SUMMARY:STEM
DESCRIPTION:
URL:https://nmic1.bhncdsb.ca/event/stem-32/
END:VEVENT
BEGIN:VEVENT
DTSTART;VALUE=DATE:20260122
DTEND;VALUE=DATE:20260123
DTSTAMP:20260420T212225
CREATED:20251208T164135Z
LAST-MODIFIED:20251208T164135Z
UID:1610-1769040000-1769126399@nmic1.bhncdsb.ca
SUMMARY:Popcorn Day
DESCRIPTION:
URL:https://nmic1.bhncdsb.ca/event/popcorn-day-31/
END:VEVENT
BEGIN:VEVENT
DTSTART;VALUE=DATE:20260122
DTEND;VALUE=DATE:20260123
DTSTAMP:20260420T212225
CREATED:20251208T164153Z
LAST-MODIFIED:20251208T164153Z
UID:1612-1769040000-1769126399@nmic1.bhncdsb.ca
SUMMARY:STEM
DESCRIPTION:
URL:https://nmic1.bhncdsb.ca/event/stem-33/
END:VEVENT
BEGIN:VEVENT
DTSTART;VALUE=DATE:20260123
DTEND;VALUE=DATE:20260124
DTSTAMP:20260420T212225
CREATED:20251208T164210Z
LAST-MODIFIED:20251208T164210Z
UID:1614-1769126400-1769212799@nmic1.bhncdsb.ca
SUMMARY:STEM
DESCRIPTION:
URL:https://nmic1.bhncdsb.ca/event/stem-34/
END:VEVENT
BEGIN:VEVENT
DTSTART;VALUE=DATE:20260123
DTEND;VALUE=DATE:20260124
DTSTAMP:20260420T212225
CREATED:20251208T164227Z
LAST-MODIFIED:20251208T164227Z
UID:1616-1769126400-1769212799@nmic1.bhncdsb.ca
SUMMARY:Pizza Day
DESCRIPTION:
URL:https://nmic1.bhncdsb.ca/event/pizza-day-41/
END:VEVENT
BEGIN:VEVENT
DTSTART;VALUE=DATE:20260126
DTEND;VALUE=DATE:20260127
DTSTAMP:20260420T212225
CREATED:20251208T164252Z
LAST-MODIFIED:20251208T164252Z
UID:1618-1769385600-1769471999@nmic1.bhncdsb.ca
SUMMARY:Senior Basketball Tournament at Holy Trinity
DESCRIPTION:
URL:https://nmic1.bhncdsb.ca/event/senior-basketball-tournament-at-holy-trinity-2/
END:VEVENT
BEGIN:VEVENT
DTSTART;VALUE=DATE:20260127
DTEND;VALUE=DATE:20260128
DTSTAMP:20260420T212225
CREATED:20251208T164314Z
LAST-MODIFIED:20251208T164314Z
UID:1620-1769472000-1769558399@nmic1.bhncdsb.ca
SUMMARY:Chicken Nuggets Day
DESCRIPTION:
URL:https://nmic1.bhncdsb.ca/event/chicken-nuggets-day-2/
END:VEVENT
BEGIN:VEVENT
DTSTART;VALUE=DATE:20260128
DTEND;VALUE=DATE:20260129
DTSTAMP:20260420T212225
CREATED:20251208T164333Z
LAST-MODIFIED:20251208T164333Z
UID:1622-1769558400-1769644799@nmic1.bhncdsb.ca
SUMMARY:Panzerotti Day
DESCRIPTION:
URL:https://nmic1.bhncdsb.ca/event/panzerotti-day-8/
END:VEVENT
BEGIN:VEVENT
DTSTART;VALUE=DATE:20260129
DTEND;VALUE=DATE:20260130
DTSTAMP:20260420T212225
CREATED:20251208T164359Z
LAST-MODIFIED:20251208T164359Z
UID:1624-1769644800-1769731199@nmic1.bhncdsb.ca
SUMMARY:Popcorn Day
DESCRIPTION:
URL:https://nmic1.bhncdsb.ca/event/popcorn-day-32/
END:VEVENT
BEGIN:VEVENT
DTSTART;TZID=America/Toronto:20260129T170000
DTEND;TZID=America/Toronto:20260129T190000
DTSTAMP:20260420T212225
CREATED:20251208T164519Z
LAST-MODIFIED:20251208T164519Z
UID:1626-1769706000-1769713200@nmic1.bhncdsb.ca
SUMMARY:Parent Council Meeting 5:00
DESCRIPTION:
URL:https://nmic1.bhncdsb.ca/event/parent-council-meeting-500-4/
END:VEVENT
BEGIN:VEVENT
DTSTART;VALUE=DATE:20260130
DTEND;VALUE=DATE:20260131
DTSTAMP:20260420T212225
CREATED:20251208T164539Z
LAST-MODIFIED:20251208T164539Z
UID:1628-1769731200-1769817599@nmic1.bhncdsb.ca
SUMMARY:Pizza Day
DESCRIPTION:
URL:https://nmic1.bhncdsb.ca/event/pizza-day-42/
END:VEVENT
BEGIN:VEVENT
DTSTART;VALUE=DATE:20260130
DTEND;VALUE=DATE:20260131
DTSTAMP:20260420T212225
CREATED:20251208T164558Z
LAST-MODIFIED:20251208T164558Z
UID:1630-1769731200-1769817599@nmic1.bhncdsb.ca
SUMMARY:Basketball Cancellation Date
DESCRIPTION:
URL:https://nmic1.bhncdsb.ca/event/basketball-cancellation-date/
END:VEVENT
BEGIN:VEVENT
DTSTART;VALUE=DATE:20260130
DTEND;VALUE=DATE:20260131
DTSTAMP:20260420T212225
CREATED:20251208T164618Z
LAST-MODIFIED:20251208T164618Z
UID:1632-1769731200-1769817599@nmic1.bhncdsb.ca
SUMMARY:Library
DESCRIPTION:
URL:https://nmic1.bhncdsb.ca/event/library-11/
END:VEVENT
BEGIN:VEVENT
DTSTART;VALUE=DATE:20260203
DTEND;VALUE=DATE:20260204
DTSTAMP:20260420T212225
CREATED:20251208T164649Z
LAST-MODIFIED:20251208T164649Z
UID:1634-1770076800-1770163199@nmic1.bhncdsb.ca
SUMMARY:Food Orders Go Home
DESCRIPTION:
URL:https://nmic1.bhncdsb.ca/event/food-orders-go-home-7/
END:VEVENT
BEGIN:VEVENT
DTSTART;VALUE=DATE:20260203
DTEND;VALUE=DATE:20260204
DTSTAMP:20260420T212225
CREATED:20251208T164711Z
LAST-MODIFIED:20251208T164711Z
UID:1636-1770076800-1770163199@nmic1.bhncdsb.ca
SUMMARY:Cheeseburger Day
DESCRIPTION:
URL:https://nmic1.bhncdsb.ca/event/cheeseburger-day-2/
END:VEVENT
END:VCALENDAR